BEGIN:VCALENDAR
VERSION:2.0
PRODID:-//UNI.at - ECPv5.3.1//NONSGML v1.0//EN
CALSCALE:GREGORIAN
METHOD:PUBLISH
X-WR-CALNAME:UNI.at
X-ORIGINAL-URL:https://www.uni.at
X-WR-CALDESC:Veranstaltungen für UNI.at
BEGIN:VTIMEZONE
TZID:Europe/Vienna
BEGIN:DAYLIGHT
TZOFFSETFROM:+0100
TZOFFSETTO:+0200
TZNAME:CEST
DTSTART:20260329T010000
END:DAYLIGHT
BEGIN:STANDARD
TZOFFSETFROM:+0200
TZOFFSETTO:+0100
TZNAME:CET
DTSTART:20261025T010000
END:STANDARD
END:VTIMEZONE
BEGIN:VEVENT
DTSTART;TZID=Europe/Vienna:20260613T200000
DTEND;TZID=Europe/Vienna:20260614T040000
DTSTAMP:20260421T160420
CREATED:20260305T161129Z
LAST-MODIFIED:20260305T161205Z
UID:103027-1781380800-1781409600@www.uni.at
SUMMARY:Oberösterreicher Ball 2026
DESCRIPTION:Oberösterreich lädt zum Ball ins Wiener Rathaus „Sei ned zwida\, tanz’ moi wieda!“ – unter diesem Motto wird im Wiener Rathaus getanzt\, gefeiert und genossen\, während sich Oberösterreich eine Nacht lang von seiner schönsten Seite präsentiert. \nAm 13. Juni 2026 bringt der Oberösterreicher Ball bereits zum 122. Mal ein Stück oberösterreichische Heimat nach Wien. \nKummst a?
URL:https://www.uni.at/veranstaltungen/oberoesterreicher-ball-2026/
LOCATION:Wiener Rathaus\, Lichtenfelsgasse 2\, Wien\, Österreich
CATEGORIES:Freizeit & Sport
ATTACH;FMTTYPE=image/png:https://www.uni.at/wp-content/uploads/2026/03/Oberösterreicherball-2026.png
GEO:48.2101302;16.3575553
X-APPLE-STRUCTURED-LOCATION;VALUE=URI;X-ADDRESS=Wiener Rathaus Lichtenfelsgasse 2 Wien Österreich;X-APPLE-RADIUS=500;X-TITLE=Lichtenfelsgasse 2:geo:16.3575553,48.2101302
END:VEVENT
END:VCALENDAR