BEGIN:VCALENDAR
VERSION:2.0
PRODID:-//UNI.at - ECPv5.3.1//NONSGML v1.0//EN
CALSCALE:GREGORIAN
METHOD:PUBLISH
X-WR-CALNAME:UNI.at
X-ORIGINAL-URL:https://www.uni.at
X-WR-CALDESC:Veranstaltungen für UNI.at
BEGIN:VTIMEZONE
TZID:Europe/Vienna
BEGIN:DAYLIGHT
TZOFFSETFROM:+0100
TZOFFSETTO:+0200
TZNAME:CEST
DTSTART:20260329T010000
END:DAYLIGHT
BEGIN:STANDARD
TZOFFSETFROM:+0200
TZOFFSETTO:+0100
TZNAME:CET
DTSTART:20261025T010000
END:STANDARD
END:VTIMEZONE
BEGIN:VEVENT
DTSTART;TZID=Europe/Vienna:20260610T163000
DTEND;TZID=Europe/Vienna:20260610T193000
DTSTAMP:20260419T172257
CREATED:20260109T163536Z
LAST-MODIFIED:20260109T163806Z
UID:102257-1781109000-1781119800@www.uni.at
SUMMARY:Job- und Karrieremesse Technik 2026
DESCRIPTION:Nutzen Sie die Chance\, Ihr Unternehmen an der Hochschule Campus Wien zu präsentieren und frühzeitig künftige Mitarbeiter*innen zu rekrutieren. Unsere Job- und Karrieremesse Technik ist die ideale Gelegenheit dafür. \nWann: Mittwoch\, 10. Juni 2026\, ab 16.30 Uhr\nWo: Hochschule Campus Wien\, Favoritenstraße 226\, 1100 Wien\, Festsaal B \nMelden Sie sich gleich unverbindlich an\, um Ihr Interesse an einem Ausstellungsstand zu bekunden. \nBitte melden Sich sich für die Messe \nBei Rückfragen steht Andrea Winkelbauer gerne zur Verfügung. Sollten Sie für Ihre Teilnahme etwas Bestimmtes benötigen\, z. B. Gebärdensprach-Dolmetscher*in oder technische Unterstützung bei Hörbeeinträchtigung\, kontaktieren Sie bitte Andrea Winkelbauer bis möglichst 04.06.2026. \nWir fertigen bei dieser Veranstaltung Fotos und Videos an. Die Aufnahmen werden zur Darstellung unserer Aktivitäten auch in Social-Media-Kanälen sowie in Printmedien veröffentlicht. Mehr Informationen finden Sie in unserer Datenschutzerklärung.
URL:https://www.uni.at/veranstaltungen/job-und-karrieremesse-technik-2026/
LOCATION:Hochschule Campus Wien\, Favoritenstraße 226\, Wien\, 1100\, Österreich
CATEGORIES:Messen und Infoveranstaltungen
ATTACH;FMTTYPE=image/png:https://www.uni.at/wp-content/uploads/2025/01/Job-und-Karrieremesse-Technik-2025.png
GEO:48.1582545;16.3820763
X-APPLE-STRUCTURED-LOCATION;VALUE=URI;X-ADDRESS=Hochschule Campus Wien Favoritenstraße 226 Wien 1100 Österreich;X-APPLE-RADIUS=500;X-TITLE=Favoritenstraße 226:geo:16.3820763,48.1582545
END:VEVENT
END:VCALENDAR