BEGIN:VCALENDAR
VERSION:2.0
PRODID:-//UNI.at - ECPv5.3.1//NONSGML v1.0//EN
CALSCALE:GREGORIAN
METHOD:PUBLISH
X-WR-CALNAME:UNI.at
X-ORIGINAL-URL:https://www.uni.at
X-WR-CALDESC:Veranstaltungen für UNI.at
BEGIN:VTIMEZONE
TZID:Europe/Vienna
BEGIN:DAYLIGHT
TZOFFSETFROM:+0100
TZOFFSETTO:+0200
TZNAME:CEST
DTSTART:20260329T010000
END:DAYLIGHT
BEGIN:STANDARD
TZOFFSETFROM:+0200
TZOFFSETTO:+0100
TZNAME:CET
DTSTART:20261025T010000
END:STANDARD
END:VTIMEZONE
BEGIN:VEVENT
DTSTART;TZID=Europe/Vienna:20260428T180000
DTEND;TZID=Europe/Vienna:20260428T180000
DTSTAMP:20260421T124842
CREATED:20260415T155859Z
LAST-MODIFIED:20260415T155917Z
UID:103257-1777399200-1777399200@www.uni.at
SUMMARY:Infoevent „Kooperative Stadt- und Regionalentwicklung – Die soziale Region“
DESCRIPTION:Wie kann Kooperative Stadt- und Regionalentwicklung zu einer sozial gerechten Zukunft beitragen?\nIm Zertifikatsprogramm „Kooperative Stadt- und Regionalentwicklung – Die soziale Region“ an der Universität Wien setzen Sie sich gemeinsam mit Peers und Expert*innen aus Theorie und Praxis mit der Gestaltung und fairen Aufteilung des öffentlichen Raums\, Sozialraumanalysen und partizipativen Planungsverfahren wie Immobilienentwicklung und Besiedelungsmanagement auseinander. Themen des kompakten\, online-absolvierbaren Programms sind etwa leistbares Wohnen\, tragfähige Gesundheitsorganisation\, soziale Innovation und partizipative Beteiligungsformate. \nInformieren Sie sich beim Online-Infoabend. Das wissenschaftliche Leitungsteam bestehend aus Yvonne Franz und Martin Heintel stellen das Weiterbildungsprogramm vor und beantworten gerne Ihre Fragen. \nAnmeldung: https://www.postgraduatecenter.at/weiterbildungsprogramme/internationales-wirtschaft/kooperative-stadt-und-regionalentwicklung/infoabend/
URL:https://www.uni.at/veranstaltungen/infoevent-kooperative-stadt-und-regionalentwicklung-die-soziale-region/
LOCATION:Online\, Österreich
CATEGORIES:Messen und Infoveranstaltungen
ATTACH;FMTTYPE=image/png:https://www.uni.at/wp-content/uploads/2024/02/Kooperative-Stadt-und-Regionalentwicklung.png
GEO:47.516231;14.550072
END:VEVENT
END:VCALENDAR