BEGIN:VCALENDAR
VERSION:2.0
PRODID:-//UNI.at - ECPv5.3.1//NONSGML v1.0//EN
CALSCALE:GREGORIAN
METHOD:PUBLISH
X-WR-CALNAME:UNI.at
X-ORIGINAL-URL:https://www.uni.at
X-WR-CALDESC:Veranstaltungen für UNI.at
BEGIN:VTIMEZONE
TZID:Europe/Vienna
BEGIN:DAYLIGHT
TZOFFSETFROM:+0100
TZOFFSETTO:+0200
TZNAME:CEST
DTSTART:20260329T010000
END:DAYLIGHT
BEGIN:STANDARD
TZOFFSETFROM:+0200
TZOFFSETTO:+0100
TZNAME:CET
DTSTART:20261025T010000
END:STANDARD
END:VTIMEZONE
BEGIN:VEVENT
DTSTART;TZID=Europe/Vienna:20260425T110000
DTEND;TZID=Europe/Vienna:20260426T180000
DTSTAMP:20260421T193305
CREATED:20260421T140340Z
LAST-MODIFIED:20260421T140713Z
UID:103352-1777114800-1777226400@www.uni.at
SUMMARY:Edelstoff Frühlingsmarkt
DESCRIPTION:EDELSTOFF-MARKT FÜR JUNGES DESIGN\nDer Edelstoff Frühlingsmarkt kehrt am 25. und 26. April 2026 in die MARX HALLE zurück und schafft erneut einen Erlebnisraum\, in dem Design\, Handwerk\, Kulinarik und Community zusammenkommen. \n170 ausgewählte Labels aus Österreich\, darunter rund 40 internationale Labels aus Bulgarien\, Tschechien\, Deutschland\, Kroatien\, Ungarn\, Italien\, Polen\, Serbien\, Slowenien\, Slowakei. Edelstoff setzt bewusst auf Qualität\, Vielfalt und eine sorgfältige Auswahl an Aussteller:innen. \nEdelstoff ist ein Erlebnis für ein ganzes Wochenende.\nNeben Mode\, Keramik\, Kosmetik\, Schmuck\, sowie Produkt-und Kids Design erwartet Besucher:innen ein vielfältiges Rahmenprogramm. \nIn der Workshop Area kann man selbst kreativ werden\, von Block Print über DIY Duftkerzen bis hin zu Schmuckdesign. Ein weiteres Highlight ist die rund 1.000 m² große Street Food Area mit 10 Food-Trucks und drei Bars: Von süßen Spezialitäten bis zu internationalen Gerichten ist für jeden Geschmack etwas dabei. \nAuch Preloved Fashion ist Teil des Konzepts: Content Creator verkaufen ihre Lieblingsstückedirekt vor Ort und warten mit ausgewählten Secondhand-Pieces auf. Eine Shiatsu Lounge\, ein Kids-Bereich und weitere Angebote runden das Erlebnis ab. \nMit einem Eintrittspreis von 5 Euro und barrierefreiem Zugang ist die Edelstoffbewusst für alle zugänglich. \nEin Blick auf die teilnehmenden Labels zeigt\, wie vielseitig die neue Generation unabhängiger Designer:innen und Manufakturen ist:\nSo bringt Bottery–Pottery with B handgefertigte Keramik-Unikate hervor–von klassischen Tassen und Schüsseln bis hin zu verspielten\, feministischen Vasen–während die.dirndlerei traditionelle Dirndl neu denkt\, etwa mit Schürzen aus upgecycelten Krawatten und Taschen aus bestickten Vintage-Stoffen. \nIm Schmuck-und Designbereich setzt Lib Lab Jewelry mit farbenfrohen Statement-Ohrringen lebendige Akzente\, während KOMAD wandelbare Mode entwirft\, die sich flexibel von Alltag bis Abend kombinieren lässt. \nAuch kulinarisch zeigt sich die Vielfalt: Maleninsky verarbeitet Streuobst zu ungewöhnlichen Spezialitäten\, während Miss Rósy Wermut mit dem weltweit ersten Schilcherwermut ein fruchtig-spritziges Geschmackserlebnis schafft. \nEDELSTOFF–FRÜHLINGSMARKT\, 25. & 26. APRIL 2026\n\nMARX HALLE\, Studio 1 (4.000 m²)\, 170 Labels\nEintritt: 5 €\, barrierefrei\n\nWEITERE TERMINE 2026:\n\nHerbstmarkt: 3. + 4. Oktober\nXMAS Markt: 5. + 6. Dezember\n\nEDELSTOFF-Markt für junges Design\nEdelstoff–Markt für junges Design zählt zu den fixen Terminen der Wiener Kreativszene und findet mehrmals jährlich statt.  \nGezeigt werden unabhängige Labels aus den Bereichen Mode\, Accessoires\, Schmuck\, Kunst\, Kosmetik\, Kulinarik sowie Produkt-und Kids Design. Im Mittelpunkt stehen handgefertigte Produkte\, kleine Manufakturen und originelle Ideen. Ergänzt wird das Angebot durch Workshops und einer großen Street Food Area. https://edelstoff.or.at/
URL:https://www.uni.at/veranstaltungen/edelstoff-fruehlingsmarkt/
LOCATION:Marx Halle\, Karl-Farkas-Gasse 19\, Wien\, 1030\, Österreich
CATEGORIES:Freizeit & Sport
ATTACH;FMTTYPE=image/png:https://www.uni.at/wp-content/uploads/2026/04/Edelstoff-Frühlingsmarkt.png
GEO:48.1873755;16.4053341
X-APPLE-STRUCTURED-LOCATION;VALUE=URI;X-ADDRESS=Marx Halle Karl-Farkas-Gasse 19 Wien 1030 Österreich;X-APPLE-RADIUS=500;X-TITLE=Karl-Farkas-Gasse 19:geo:16.4053341,48.1873755
END:VEVENT
END:VCALENDAR