BEGIN:VCALENDAR
VERSION:2.0
PRODID:-//UNI.at - ECPv5.3.1//NONSGML v1.0//EN
CALSCALE:GREGORIAN
METHOD:PUBLISH
X-WR-CALNAME:UNI.at
X-ORIGINAL-URL:https://www.uni.at
X-WR-CALDESC:Veranstaltungen für UNI.at
BEGIN:VTIMEZONE
TZID:Europe/Vienna
BEGIN:DAYLIGHT
TZOFFSETFROM:+0100
TZOFFSETTO:+0200
TZNAME:CEST
DTSTART:20260329T010000
END:DAYLIGHT
BEGIN:STANDARD
TZOFFSETFROM:+0200
TZOFFSETTO:+0100
TZNAME:CET
DTSTART:20261025T010000
END:STANDARD
END:VTIMEZONE
BEGIN:VEVENT
DTSTART;TZID=Europe/Vienna:20261202T090000
DTEND;TZID=Europe/Vienna:20261204T150000
DTSTAMP:20260421T191758
CREATED:20260109T172512Z
LAST-MODIFIED:20260109T172551Z
UID:102272-1796202000-1796396400@www.uni.at
SUMMARY:BeSt Innsbruck
DESCRIPTION:BeSt in Innsbruck –\ndeine große Zukunftschance\n\n\n\n\nBeruf\, Studium\, Aus- & Weiterbildung. \n\n\n\n\nDie BeSt Innsbruck öffnet alle 2 Jahre die Tore der größten Berufs- und Bildungsmesse Österreichs für Jugendliche\, junge Erwachsene\, Eltern und Bildungsinteressierte. Die BeSt Innsbruck zieht dabei ca. 200 Aussteller aus den verschiedensten Bereichen – von Schulen\, über Hochschulen bis hin zu zahlreichen Unternehmen – an und bietet an 3 vollen Messetagen die Chance\, sich über vielfältigste Berufs- und Bildungswege zu informieren.
URL:https://www.uni.at/veranstaltungen/best-innsbruck/
LOCATION:Messe Innsbruck\, Ing. Etzelstrasse\, Innsbruck\, 6020\, Österreich
CATEGORIES:Messen und Infoveranstaltungen
ATTACH;FMTTYPE=image/png:https://www.uni.at/wp-content/uploads/2025/01/BeSt-Messe.png
GEO:47.2731403;11.4077533
X-APPLE-STRUCTURED-LOCATION;VALUE=URI;X-ADDRESS=Messe Innsbruck Ing. Etzelstrasse Innsbruck 6020 Österreich;X-APPLE-RADIUS=500;X-TITLE=Ing. Etzelstrasse:geo:11.4077533,47.2731403
END:VEVENT
END:VCALENDAR